BEGIN:VCALENDAR
VERSION:2.0
PRODID:-//wp-events-plugin.com//7.2.3.1//EN
TZID:America/New_York
X-WR-TIMEZONE:America/New_York
BEGIN:VEVENT
UID:57@ifmaeasternpa.org
DTSTART;TZID=America/New_York:20260707T113000
DTEND;TZID=America/New_York:20260707T150000
DTSTAMP:20260420T135523Z
URL:https://ifmaeasternpa.org/events/networking-baseball/
SUMMARY:Networking & Baseball
DESCRIPTION:\n\n\n\n\n\n\nJoin IFMA Eastern PA\, CSI Greater Lehigh Valley\
 , ABC Eastern PA\, AIA Eastern PA\, and CREW Lehigh Valley for a summer ne
 tworking event at Coca-Cola Park as the IronPigs take on the Clippers!\nTu
 esday\, July 7First pitch at 11:35 AMCoca-Cola Park\nTickets: $45Supportin
 g Sponsor: $200 (includes one ticket and recognition at the event and on s
 ocial media)\nFor questions\, contact Amy McCafferty at amccafferty@abceas
 pa.org\nRegister Here\n\n\n\n\n\n\n\n\n\n\n\n\n
ATTACH;FMTTYPE=image/jpeg:https://ifmaeasternpa.org/wp-content/uploads/202
 6/04/Lehigh-Valley-Iron-Pigs-26-pdf.jpg
CATEGORIES:Partner Event
LOCATION:Coca-Cola Park\, 1050 Iron Pigs Way\, Allentown\, PA\, 18103\, Uni
 ted States
GEO:40.625067;-75.452675
X-APPLE-STRUCTURED-LOCATION;VALUE=URI;X-ADDRESS=1050 Iron Pigs Way\, Allent
 own\, PA\, 18103\, United States;X-APPLE-RADIUS=100;X-TITLE=Coca-Cola Park
 :geo:40.625067,-75.452675
END:VEVENT
BEGIN:VTIMEZONE
TZID:America/New_York
X-LIC-LOCATION:America/New_York
BEGIN:DAYLIGHT
DTSTART:20260308T030000
TZOFFSETFROM:-0500
TZOFFSETTO:-0400
TZNAME:EDT
END:DAYLIGHT
END:VTIMEZONE
END:VCALENDAR